BEGIN:VCALENDAR
VERSION:2.0
PRODID:icalendar-ruby
CALSCALE:GREGORIAN
METHOD:PUBLISH
BEGIN:VEVENT
DTSTAMP:20260423T105045Z
UID:5-394677@joshuasword.org
DTSTART:20261101T183000Z
DTEND:20261101T193000Z
CLASS:PUBLIC
CREATED:20260422T195108
DESCRIPTION:Sunday Worship
LAST-MODIFIED:20260422T195108
LOCATION:
SUMMARY:Sunday Worship
URL;VALUE=URI:https://joshuasword.org/events/sunday-worship/2026-11-01
END:VEVENT
END:VCALENDAR
