BEGIN:VCALENDAR
VERSION:2.0
PRODID:icalendar-ruby
CALSCALE:GREGORIAN
METHOD:PUBLISH
BEGIN:VEVENT
DTSTAMP:20260423T090958Z
UID:5-394676@joshuasword.org
DTSTART:20261025T173000Z
DTEND:20261025T183000Z
CLASS:PUBLIC
CREATED:20260422T195108
DESCRIPTION:Sunday Worship
LAST-MODIFIED:20260422T195108
LOCATION:
SUMMARY:Sunday Worship
URL;VALUE=URI:https://joshuasword.org/events/sunday-worship/2026-10-25
END:VEVENT
END:VCALENDAR
