BEGIN:VCALENDAR
VERSION:2.0
PRODID:icalendar-ruby
CALSCALE:GREGORIAN
METHOD:PUBLISH
BEGIN:VEVENT
DTSTAMP:20260422T210221Z
UID:5-393887@joshuasword.org
DTSTART:20260913T173000Z
DTEND:20260913T183000Z
CLASS:PUBLIC
CREATED:20260422T111016
DESCRIPTION:Sunday Worship
LAST-MODIFIED:20260422T111016
LOCATION:
SUMMARY:Sunday Worship
URL;VALUE=URI:https://joshuasword.org/events/sunday-worship/2026-09-13
END:VEVENT
END:VCALENDAR
